BEGIN:VCALENDAR
VERSION:2.0
PRODID:-//Hope Prison Ministries - ECPv6.15.20//NONSGML v1.0//EN
CALSCALE:GREGORIAN
METHOD:PUBLISH
X-WR-CALNAME:Hope Prison Ministries
X-ORIGINAL-URL:https://hopegivesback.com
X-WR-CALDESC:Events for Hope Prison Ministries
REFRESH-INTERVAL;VALUE=DURATION:PT1H
X-Robots-Tag:noindex
X-PUBLISHED-TTL:PT1H
BEGIN:VTIMEZONE
TZID:UTC
BEGIN:STANDARD
TZOFFSETFROM:+0000
TZOFFSETTO:+0000
TZNAME:UTC
DTSTART:20240101T000000
END:STANDARD
END:VTIMEZONE
BEGIN:VTIMEZONE
TZID:America/Chicago
BEGIN:DAYLIGHT
TZOFFSETFROM:-0600
TZOFFSETTO:-0500
TZNAME:CDT
DTSTART:20240310T080000
END:DAYLIGHT
BEGIN:STANDARD
TZOFFSETFROM:-0500
TZOFFSETTO:-0600
TZNAME:CST
DTSTART:20241103T070000
END:STANDARD
BEGIN:DAYLIGHT
TZOFFSETFROM:-0600
TZOFFSETTO:-0500
TZNAME:CDT
DTSTART:20250309T080000
END:DAYLIGHT
BEGIN:STANDARD
TZOFFSETFROM:-0500
TZOFFSETTO:-0600
TZNAME:CST
DTSTART:20251102T070000
END:STANDARD
BEGIN:DAYLIGHT
TZOFFSETFROM:-0600
TZOFFSETTO:-0500
TZNAME:CDT
DTSTART:20260308T080000
END:DAYLIGHT
BEGIN:STANDARD
TZOFFSETFROM:-0500
TZOFFSETTO:-0600
TZNAME:CST
DTSTART:20261101T070000
END:STANDARD
END:VTIMEZONE
BEGIN:VEVENT
DTSTART;TZID=UTC:20251110T180000
DTEND;TZID=UTC:20251110T200000
DTSTAMP:20260424T135912
CREATED:20250820T070055Z
LAST-MODIFIED:20250820T070055Z
UID:2979-1762797600-1762804800@hopegivesback.com
SUMMARY:Worship Service
DESCRIPTION:
URL:https://hopegivesback.com/event/worship-service-28/
LOCATION:Wallace Unit\, 1675 South FM 3525\, Colorado City\, Tx\, 75912\, United States
CATEGORIES:Prison Ministry
ORGANIZER;CN="Hope Prison Ministries":MAILTO:chandler@hopeprisonministries.org
END:VEVENT
BEGIN:VEVENT
DTSTART;TZID=UTC:20251103T180000
DTEND;TZID=UTC:20251103T200000
DTSTAMP:20260424T135912
CREATED:20250820T070054Z
LAST-MODIFIED:20250820T070054Z
UID:2978-1762192800-1762200000@hopegivesback.com
SUMMARY:Worship Service
DESCRIPTION:
URL:https://hopegivesback.com/event/worship-service-27/
LOCATION:Wallace Unit\, 1675 South FM 3525\, Colorado City\, Tx\, 75912\, United States
CATEGORIES:Prison Ministry
ORGANIZER;CN="Hope Prison Ministries":MAILTO:chandler@hopeprisonministries.org
END:VEVENT
BEGIN:VEVENT
DTSTART;TZID=UTC:20251102T180000
DTEND;TZID=UTC:20251102T210000
DTSTAMP:20260424T135912
CREATED:20250411T152624Z
LAST-MODIFIED:20250820T054636Z
UID:1957-1762106400-1762117200@hopegivesback.com
SUMMARY:Worship Service
DESCRIPTION:
URL:https://hopegivesback.com/event/worship-service-11/
LOCATION:Bridgeport Correctional Center\, 4000 North Tenth Street\, Bridgeport\, TX\, 76426\, United States
CATEGORIES:Prison Ministry
ORGANIZER;CN="Hope Prison Ministries":MAILTO:chandler@hopeprisonministries.org
END:VEVENT
BEGIN:VEVENT
DTSTART;TZID=UTC:20251027T180000
DTEND;TZID=UTC:20251027T200000
DTSTAMP:20260424T135912
CREATED:20250820T070054Z
LAST-MODIFIED:20250820T070054Z
UID:2977-1761588000-1761595200@hopegivesback.com
SUMMARY:Worship Service
DESCRIPTION:
URL:https://hopegivesback.com/event/worship-service-26/
LOCATION:Wallace Unit\, 1675 South FM 3525\, Colorado City\, Tx\, 75912\, United States
CATEGORIES:Prison Ministry
ORGANIZER;CN="Hope Prison Ministries":MAILTO:chandler@hopeprisonministries.org
END:VEVENT
BEGIN:VEVENT
DTSTART;TZID=UTC:20251020T180000
DTEND;TZID=UTC:20251020T200000
DTSTAMP:20260424T135912
CREATED:20250820T070054Z
LAST-MODIFIED:20250820T070054Z
UID:2976-1760983200-1760990400@hopegivesback.com
SUMMARY:Worship Service
DESCRIPTION:
URL:https://hopegivesback.com/event/worship-service-25/
LOCATION:Wallace Unit\, 1675 South FM 3525\, Colorado City\, Tx\, 75912\, United States
CATEGORIES:Prison Ministry
ORGANIZER;CN="Hope Prison Ministries":MAILTO:chandler@hopeprisonministries.org
END:VEVENT
BEGIN:VEVENT
DTSTART;TZID=UTC:20251020T173000
DTEND;TZID=UTC:20251020T203000
DTSTAMP:20260424T135912
CREATED:20250730T130557Z
LAST-MODIFIED:20250820T054641Z
UID:2869-1760981400-1760992200@hopegivesback.com
SUMMARY:Worship Service
DESCRIPTION:
URL:https://hopegivesback.com/event/worship-service-15/
LOCATION:Wallace Unit\, 1675 South FM 3525\, Colorado City\, Tx\, 75912\, United States
CATEGORIES:Prison Ministry
ORGANIZER;CN="Hope Prison Ministries":MAILTO:chandler@hopeprisonministries.org
END:VEVENT
BEGIN:VEVENT
DTSTART;TZID=UTC:20251013T180000
DTEND;TZID=UTC:20251013T200000
DTSTAMP:20260424T135912
CREATED:20250820T070054Z
LAST-MODIFIED:20250820T070054Z
UID:2975-1760378400-1760385600@hopegivesback.com
SUMMARY:Worship Service
DESCRIPTION:
URL:https://hopegivesback.com/event/worship-service-24/
LOCATION:Wallace Unit\, 1675 South FM 3525\, Colorado City\, Tx\, 75912\, United States
CATEGORIES:Prison Ministry
ORGANIZER;CN="Hope Prison Ministries":MAILTO:chandler@hopeprisonministries.org
END:VEVENT
BEGIN:VEVENT
DTSTART;TZID=UTC:20251006T180000
DTEND;TZID=UTC:20251006T200000
DTSTAMP:20260424T135912
CREATED:20250820T070053Z
LAST-MODIFIED:20250820T070053Z
UID:2974-1759773600-1759780800@hopegivesback.com
SUMMARY:Worship Service
DESCRIPTION:
URL:https://hopegivesback.com/event/worship-service-23/
LOCATION:Wallace Unit\, 1675 South FM 3525\, Colorado City\, Tx\, 75912\, United States
CATEGORIES:Prison Ministry
ORGANIZER;CN="Hope Prison Ministries":MAILTO:chandler@hopeprisonministries.org
END:VEVENT
BEGIN:VEVENT
DTSTART;TZID=UTC:20251005T180000
DTEND;TZID=UTC:20251005T210000
DTSTAMP:20260424T135912
CREATED:20250411T152238Z
LAST-MODIFIED:20250820T054646Z
UID:1955-1759687200-1759698000@hopegivesback.com
SUMMARY:Worship Service
DESCRIPTION:
URL:https://hopegivesback.com/event/worship-service-10/
LOCATION:Bridgeport Correctional Center\, 4000 North Tenth Street\, Bridgeport\, TX\, 76426\, United States
CATEGORIES:Prison Ministry
ORGANIZER;CN="Hope Prison Ministries":MAILTO:chandler@hopeprisonministries.org
END:VEVENT
BEGIN:VEVENT
DTSTART;TZID=UTC:20250929T180000
DTEND;TZID=UTC:20250929T200000
DTSTAMP:20260424T135912
CREATED:20250820T070052Z
LAST-MODIFIED:20250820T070052Z
UID:2973-1759168800-1759176000@hopegivesback.com
SUMMARY:Worship Service
DESCRIPTION:
URL:https://hopegivesback.com/event/worship-service-22/
LOCATION:Wallace Unit\, 1675 South FM 3525\, Colorado City\, Tx\, 75912\, United States
CATEGORIES:Prison Ministry
ORGANIZER;CN="Hope Prison Ministries":MAILTO:chandler@hopeprisonministries.org
END:VEVENT
BEGIN:VEVENT
DTSTART;TZID=UTC:20250922T180000
DTEND;TZID=UTC:20250922T200000
DTSTAMP:20260424T135912
CREATED:20250820T070052Z
LAST-MODIFIED:20250820T070052Z
UID:2972-1758564000-1758571200@hopegivesback.com
SUMMARY:Worship Service
DESCRIPTION:
URL:https://hopegivesback.com/event/worship-service-21/
LOCATION:Wallace Unit\, 1675 South FM 3525\, Colorado City\, Tx\, 75912\, United States
CATEGORIES:Prison Ministry
ORGANIZER;CN="Hope Prison Ministries":MAILTO:chandler@hopeprisonministries.org
END:VEVENT
BEGIN:VEVENT
DTSTART;TZID=UTC:20250921T070000
DTEND;TZID=UTC:20250921T120000
DTSTAMP:20260424T135912
CREATED:20250110T171645Z
LAST-MODIFIED:20250820T054652Z
UID:1678-1758438000-1758456000@hopegivesback.com
SUMMARY:Worship Service
DESCRIPTION:
URL:https://hopegivesback.com/event/worship-service-3/
LOCATION:Rufe Jordan Unit\, 1992 Helton Road\, Pampa\, TX\, 79065\, United States
CATEGORIES:Prison Ministry
ORGANIZER;CN="Hope Prison Ministries":MAILTO:chandler@hopeprisonministries.org
END:VEVENT
BEGIN:VEVENT
DTSTART;TZID=UTC:20250915T180000
DTEND;TZID=UTC:20250915T200000
DTSTAMP:20260424T135912
CREATED:20250820T070052Z
LAST-MODIFIED:20250820T070052Z
UID:2971-1757959200-1757966400@hopegivesback.com
SUMMARY:Worship Service
DESCRIPTION:
URL:https://hopegivesback.com/event/worship-service-20/
LOCATION:Wallace Unit\, 1675 South FM 3525\, Colorado City\, Tx\, 75912\, United States
CATEGORIES:Prison Ministry
ORGANIZER;CN="Hope Prison Ministries":MAILTO:chandler@hopeprisonministries.org
END:VEVENT
BEGIN:VEVENT
DTSTART;TZID=UTC:20250908T180000
DTEND;TZID=UTC:20250908T200000
DTSTAMP:20260424T135912
CREATED:20250820T070052Z
LAST-MODIFIED:20250820T070052Z
UID:2970-1757354400-1757361600@hopegivesback.com
SUMMARY:Worship Service
DESCRIPTION:
URL:https://hopegivesback.com/event/worship-service-19/
LOCATION:Wallace Unit\, 1675 South FM 3525\, Colorado City\, Tx\, 75912\, United States
CATEGORIES:Prison Ministry
ORGANIZER;CN="Hope Prison Ministries":MAILTO:chandler@hopeprisonministries.org
END:VEVENT
BEGIN:VEVENT
DTSTART;TZID=UTC:20250907T180000
DTEND;TZID=UTC:20250907T210000
DTSTAMP:20260424T135912
CREATED:20250411T151039Z
LAST-MODIFIED:20250820T054706Z
UID:1953-1757268000-1757278800@hopegivesback.com
SUMMARY:Worship Service
DESCRIPTION:
URL:https://hopegivesback.com/event/worship-service-9/
LOCATION:Bridgeport Correctional Center\, 4000 North Tenth Street\, Bridgeport\, TX\, 76426\, United States
CATEGORIES:Prison Ministry
ORGANIZER;CN="Hope Prison Ministries":MAILTO:chandler@hopeprisonministries.org
END:VEVENT
BEGIN:VEVENT
DTSTART;TZID=UTC:20250901T180000
DTEND;TZID=UTC:20250901T200000
DTSTAMP:20260424T135912
CREATED:20250820T070051Z
LAST-MODIFIED:20250820T070051Z
UID:2969-1756749600-1756756800@hopegivesback.com
SUMMARY:Worship Service
DESCRIPTION:
URL:https://hopegivesback.com/event/worship-service-18/
LOCATION:Wallace Unit\, 1675 South FM 3525\, Colorado City\, Tx\, 75912\, United States
CATEGORIES:Prison Ministry
ORGANIZER;CN="Hope Prison Ministries":MAILTO:chandler@hopeprisonministries.org
END:VEVENT
BEGIN:VEVENT
DTSTART;TZID=UTC:20250818T173000
DTEND;TZID=UTC:20250818T203000
DTSTAMP:20260424T135912
CREATED:20250730T125759Z
LAST-MODIFIED:20250730T125759Z
UID:2864-1755538200-1755549000@hopegivesback.com
SUMMARY:Worship Service
DESCRIPTION:
URL:https://hopegivesback.com/event/worship-service-13/
LOCATION:Wallace Unit\, 1675 South FM 3525\, Colorado City\, Tx\, 75912\, United States
ORGANIZER;CN="Hope Prison Ministries":MAILTO:chandler@hopeprisonministries.org
END:VEVENT
BEGIN:VEVENT
DTSTART;TZID=UTC:20250803T180000
DTEND;TZID=UTC:20250803T210000
DTSTAMP:20260424T135912
CREATED:20250411T150135Z
LAST-MODIFIED:20250411T150135Z
UID:1951-1754244000-1754254800@hopegivesback.com
SUMMARY:Worship Service
DESCRIPTION:
URL:https://hopegivesback.com/event/worship-service-8/
LOCATION:Bridgeport Correctional Center\, 4000 North Tenth Street\, Bridgeport\, TX\, 76426\, United States
ORGANIZER;CN="Hope Prison Ministries":MAILTO:chandler@hopeprisonministries.org
END:VEVENT
BEGIN:VEVENT
DTSTART;TZID=UTC:20250706T180000
DTEND;TZID=UTC:20250706T210000
DTSTAMP:20260424T135912
CREATED:20250411T143533Z
LAST-MODIFIED:20250411T143533Z
UID:1949-1751824800-1751835600@hopegivesback.com
SUMMARY:Worship Service
DESCRIPTION:
URL:https://hopegivesback.com/event/worship-service-7/
LOCATION:Bridgeport Correctional Center\, 4000 North Tenth Street\, Bridgeport\, TX\, 76426\, United States
ORGANIZER;CN="Hope Prison Ministries":MAILTO:chandler@hopeprisonministries.org
END:VEVENT
BEGIN:VEVENT
DTSTART;TZID=America/Chicago:20250706T070000
DTEND;TZID=America/Chicago:20250706T120000
DTSTAMP:20260424T135912
CREATED:20250110T171321Z
LAST-MODIFIED:20250110T171321Z
UID:1676-1751785200-1751803200@hopegivesback.com
SUMMARY:Worship Service
DESCRIPTION:
URL:https://hopegivesback.com/event/worship-service-2/
LOCATION:Rufe Jordan Unit\, 1992 Helton Road\, Pampa\, TX\, 79065\, United States
ORGANIZER;CN="Hope Prison Ministries":MAILTO:chandler@hopeprisonministries.org
END:VEVENT
BEGIN:VEVENT
DTSTART;TZID=UTC:20250601T180000
DTEND;TZID=UTC:20250601T210000
DTSTAMP:20260424T135912
CREATED:20250411T143432Z
LAST-MODIFIED:20250411T143432Z
UID:1947-1748800800-1748811600@hopegivesback.com
SUMMARY:Worship Service
DESCRIPTION:
URL:https://hopegivesback.com/event/worship-service-6/
LOCATION:Bridgeport Correctional Center\, 4000 North Tenth Street\, Bridgeport\, TX\, 76426\, United States
ORGANIZER;CN="Hope Prison Ministries":MAILTO:chandler@hopeprisonministries.org
END:VEVENT
BEGIN:VEVENT
DTSTART;TZID=UTC:20250502T090000
DTEND;TZID=UTC:20250503T140000
DTSTAMP:20260424T135912
CREATED:20250411T163345Z
LAST-MODIFIED:20250411T163345Z
UID:1970-1746176400-1746280800@hopegivesback.com
SUMMARY:CMCA 2025 Summit
DESCRIPTION:Conference Breakout Speaker! \nWORKSHOP SESSION 4\nSATURDAY MAY 3\, 10:45AM-12:15PM\nMinistering to Those With A History of Sexual Sin
URL:https://hopegivesback.com/event/cmca-2025-summit/
LOCATION:Northland Church\, Longwood\, Florida
ORGANIZER;CN="Correctional Ministries and Chaplains Association (CMCA)":MAILTO:info@cmcainternational.org
END:VEVENT
BEGIN:VEVENT
DTSTART;TZID=UTC:20250427T180000
DTEND;TZID=UTC:20250427T210000
DTSTAMP:20260424T135912
CREATED:20250411T142411Z
LAST-MODIFIED:20250411T142411Z
UID:1944-1745776800-1745787600@hopegivesback.com
SUMMARY:Worship Service
DESCRIPTION:
URL:https://hopegivesback.com/event/worship-service-5/
LOCATION:Bridgeport Correctional Center\, 4000 North Tenth Street\, Bridgeport\, TX\, 76426\, United States
ORGANIZER;CN="Hope Prison Ministries":MAILTO:chandler@hopeprisonministries.org
END:VEVENT
BEGIN:VEVENT
DTSTART;TZID=America/Chicago:20250427T070000
DTEND;TZID=America/Chicago:20250427T120000
DTSTAMP:20260424T135912
CREATED:20250107T173341Z
LAST-MODIFIED:20250107T173341Z
UID:1605-1745737200-1745755200@hopegivesback.com
SUMMARY:Worship Service
DESCRIPTION:
URL:https://hopegivesback.com/event/worship-service/
LOCATION:Rufe Jordan Unit\, 1992 Helton Road\, Pampa\, TX\, 79065\, United States
ORGANIZER;CN="Hope Prison Ministries":MAILTO:chandler@hopeprisonministries.org
END:VEVENT
END:VCALENDAR